BEGIN:VCALENDAR
VERSION:2.0
PRODID:icalendar-ruby
CALSCALE:GREGORIAN
METHOD:PUBLISH
BEGIN:VEVENT
DTSTAMP:20260422T160018Z
UID:5-393137@fbcstrafford.org
DTSTART:20261101T163000Z
DTEND:20261101T173000Z
CLASS:PUBLIC
CREATED:20260422T102227
DESCRIPTION:Sunday Worship
LAST-MODIFIED:20260422T102227
LOCATION:
SUMMARY:Sunday Worship
URL;VALUE=URI:https://fbcstrafford.org/events/sunday-worship/2026-11-01
END:VEVENT
END:VCALENDAR
