BEGIN:VCALENDAR
VERSION:2.0
PRODID:icalendar-ruby
CALSCALE:GREGORIAN
METHOD:PUBLISH
BEGIN:VEVENT
DTSTAMP:20260422T143036Z
UID:5-392875@fbcstrafford.org
DTSTART:20261025T153000Z
DTEND:20261025T163000Z
CLASS:PUBLIC
CREATED:20260422T072717
DESCRIPTION:Sunday Worship
LAST-MODIFIED:20260422T072717
LOCATION:
SUMMARY:Sunday Worship
URL;VALUE=URI:https://fbcstrafford.org/events/sunday-worship/2026-10-25
END:VEVENT
END:VCALENDAR
